BEGIN:VCALENDAR
VERSION:2.0
PRODID:-//Ölbuddys Altmühltal - ECPv6.8.3//NONSGML v1.0//EN
CALSCALE:GREGORIAN
METHOD:PUBLISH
X-WR-CALNAME:Ölbuddys Altmühltal
X-ORIGINAL-URL:https://oelbuddys-altmuehltal.de
X-WR-CALDESC:Veranstaltungen für Ölbuddys Altmühltal
REFRESH-INTERVAL;VALUE=DURATION:PT1H
X-Robots-Tag:noindex
X-PUBLISHED-TTL:PT1H
BEGIN:VTIMEZONE
TZID:Europe/Berlin
BEGIN:DAYLIGHT
TZOFFSETFROM:+0100
TZOFFSETTO:+0200
TZNAME:CEST
DTSTART:20240331T010000
END:DAYLIGHT
BEGIN:STANDARD
TZOFFSETFROM:+0200
TZOFFSETTO:+0100
TZNAME:CET
DTSTART:20241027T010000
END:STANDARD
TZID:UTC
BEGIN:STANDARD
TZOFFSETFROM:+0000
TZOFFSETTO:+0000
TZNAME:UTC
DTSTART:20240101T000000
END:STANDARD
END:VTIMEZONE
BEGIN:VEVENT
DTSTART;TZID=Europe/Berlin:20240310T100000
DTEND;TZID=Europe/Berlin:20240310T113000
DTSTAMP:20260422T174238
CREATED:20230218T143819Z
LAST-MODIFIED:20240128T122826Z
UID:24-1710064800-1710070200@oelbuddys-altmuehltal.de
SUMMARY:Öl-Vormittag im März
DESCRIPTION:Wir erklären dir was ätherische Öle überhaupt sind und wie ätherische Öle unser Immunsystem\, unseren Körper und Emotionen unterstützen können und im Alltag eingesetzt werden können. Lerne auch die wundervolle Firma dahinter kennen und lieben. \nWir laden dich herzlich ein! \n  \n \nWas erwartet dich? \nEin kleines Willkommens-Goodie-Bag. \nDu erfährst warum wir die ätherischen Öle so lieben und nicht mehr missen möchten. \nWir erzählen dir wie vielseitig die ätherischen Öle von doTERRA angewendet werden können und was deine großen Vorteile sind. \nMeld dich gleich an. \nAuf Anfrage kommen wir auch gerne zu dir nach Hause und bringen dir und deinen Freund*innen die Welt der ätherischen Öle näher. \nDu wohnst weiter weg?\nKein Problem\, wir schicken dir gerne Proben und viele Infos zu. \nKontaktiere uns hierfür einfach. \nDein Ölbuddys-Team \n 
URL:https://oelbuddys-altmuehltal.de/veranstaltung/oele-kennenlernabend-im-maerz/
LOCATION:Öldate\, Am Weiher 1\, Haunsfeld\, 91804\, Deutschland
END:VEVENT
BEGIN:VEVENT
DTSTART;TZID=Europe/Berlin:20240326T180000
DTEND;TZID=Europe/Berlin:20240326T193000
DTSTAMP:20260422T174238
CREATED:20240301T211131Z
LAST-MODIFIED:20240301T211131Z
UID:385-1711476000-1711481400@oelbuddys-altmuehltal.de
SUMMARY:VHS Kurs – Ätherische Öle im Alltag
DESCRIPTION:Die Volkshochschule Wellheim lädt am Dienstag\, 26.03. zum Vortrag „Ätherische Öle im Alltag“ in die Aula der Wellheimer Grundschule (Wittmeßstraße 25) ein. Die Referentinnen Katrin und Lisa werden dabei aufzeigen\, wie ätherische Öle auf unterschiedlichste Weise in den Alltag mühelos bereichern können. Denn diese natürlichen Essenzen aus Pflanzen haben nicht nur einen angenehme Duft\, sondern unterstützen auch das Wohlbefinden. Beginn der 90-minütigen Veranstaltung ist um 18 Uhr. \nDie Teilnahmegebühr beträgt 12 € ( 10 € für VHS-Mitglieder)\, die Anmeldung erfolgt unter 08427 985135 oder vhs-wellheim@web.de \nWir freuen uns auf euch!
URL:https://oelbuddys-altmuehltal.de/veranstaltung/vhs-kurs-aetherische-oele-im-alltag/
LOCATION:Wellheim VHS\, Wittmeßstr. 25\, Wellheim\, bayern\, Deutschland
END:VEVENT
BEGIN:VEVENT
DTSTART;TZID=UTC:20240331T110000
DTEND;TZID=UTC:20240331T170000
DTSTAMP:20260422T174238
CREATED:20230306T062525Z
LAST-MODIFIED:20240128T121025Z
UID:226-1711882800-1711904400@oelbuddys-altmuehltal.de
SUMMARY:Frühlingsmarkt Hotel Dirsch Emsing
DESCRIPTION:Komm uns besuchen auf dem Ostermarkt im Hotel Dirsch in Emsing.\nWir freuen uns auf dich.
URL:https://oelbuddys-altmuehltal.de/veranstaltung/ostermarkt-hotel-dirsch-emsing/
LOCATION:Hotel Dirsch\, Hauptstraße 13\, Emsing\, Bayern\, 85135\, Deutschland
END:VEVENT
END:VCALENDAR