BEGIN:VCALENDAR
VERSION:2.0
PRODID:-//Ölbuddys Altmühltal - ECPv6.8.3//NONSGML v1.0//EN
CALSCALE:GREGORIAN
METHOD:PUBLISH
X-WR-CALNAME:Ölbuddys Altmühltal
X-ORIGINAL-URL:https://oelbuddys-altmuehltal.de
X-WR-CALDESC:Veranstaltungen für Ölbuddys Altmühltal
REFRESH-INTERVAL;VALUE=DURATION:PT1H
X-Robots-Tag:noindex
X-PUBLISHED-TTL:PT1H
BEGIN:VTIMEZONE
TZID:Europe/Berlin
BEGIN:DAYLIGHT
TZOFFSETFROM:+0100
TZOFFSETTO:+0200
TZNAME:CEST
DTSTART:20240331T010000
END:DAYLIGHT
BEGIN:STANDARD
TZOFFSETFROM:+0200
TZOFFSETTO:+0100
TZNAME:CET
DTSTART:20241027T010000
END:STANDARD
TZID:UTC
BEGIN:STANDARD
TZOFFSETFROM:+0000
TZOFFSETTO:+0000
TZNAME:UTC
DTSTART:20240101T000000
END:STANDARD
END:VTIMEZONE
BEGIN:VEVENT
DTSTART;TZID=Europe/Berlin:20240209T180000
DTEND;TZID=Europe/Berlin:20240209T200000
DTSTAMP:20260422T191445
CREATED:20231210T101426Z
LAST-MODIFIED:20240128T115907Z
UID:361-1707501600-1707508800@oelbuddys-altmuehltal.de
SUMMARY:Mein Visionboard
DESCRIPTION:  \nEs ist Zeit für einen magischen Abend voller Kreativität und Inspiration! 🌟\nAm 09.02.2024 um 18:00 laden wir euch herzlich zu unserem gemeinsamen Visionboard-Abenteuer ein. 🚀 \nWas ist ein Visionboard? \nEin Visionboard ist eine visuelle Darstellung deiner Träume und Ziele. Durch das Zusammenstellen von Bildern\, Zitaten und Symbolen auf einer Leinwand schaffst du eine inspirierende Collage. Das regelmäßige Betrachten des Visionboards hilft\, dich auf deine Ziele zu fokussieren und positive Energie für ihre Verwirklichung freizusetzen. Es ist eine kreative und kraftvolle Methode\, um deine Wünsche zu manifestieren und dich täglich an deine Visionen zu erinnern. 🌟✨ \nWas müsst ihr mitbringen? \nZeitschriften\, Bilder\, Zitate oder alles\, was eure Träume repräsentiert.\nScheren\, Kleber\, Stifte\, Farben – alles\, was eure kreative Ader braucht.\nYogamatte\, Meditationskissen\, Decke und gute Laune. \nWir werden mit einer schönen Meditation starten und uns von inspirierender Musik begleiten lassen\, uns austauschen und uns gegenseitig motivieren. Dieser Abend wird nicht nur unser Visionboard\, sondern auch unsere Herzen zum Strahlen bringen. \nFreut euch auf einen Abend voller Kreativität\, positiver Energie und Gemeinschaft! 💖
URL:https://oelbuddys-altmuehltal.de/veranstaltung/mein-visionboard/
LOCATION:Öldate\, Am Weiher 1\, Haunsfeld\, 91804\, Deutschland
END:VEVENT
BEGIN:VEVENT
DTSTART;TZID=UTC:20240216T180000
DTEND;TZID=UTC:20240216T193000
DTSTAMP:20260422T191445
CREATED:20230504T050036Z
LAST-MODIFIED:20240128T121051Z
UID:223-1708106400-1708111800@oelbuddys-altmuehltal.de
SUMMARY:Öl-Abend im Februar
DESCRIPTION:Wir erklären dir was ätherische Öle überhaupt sind und wie ätherische Öle unser Immunsystem\, unseren Körper und Emotionen unterstützen können und im Alltag eingesetzt werden können. Lerne auch die wundervolle Firma dahinter kennen und lieben. \nWir laden dich herzlich ein! \n \nWas erwartet dich? \nEin kleines Willkommens-Goodie-Bag. \nDu erfährst warum wir die ätherischen Öle so lieben und nicht mehr missen möchten. \nWir erzählen dir wie vielseitig die ätherischen Öle von doTERRA angewendet werden können und was deine großen Vorteile sind. \nMeld dich gleich an. \nAuf Anfrage kommen wir auch gerne zu dir nach Hause und bringen dir und deinen Freund*innen die Welt der ätherischen Öle näher. \nDu wohnst weiter weg?\nKein Problem\, wir schicken dir gerne Proben und viele Infos zu. \nKontaktiere uns hierfür einfach. \nDein Ölbuddys-Team
URL:https://oelbuddys-altmuehltal.de/veranstaltung/live-oeldate-april/
LOCATION:bayern
END:VEVENT
END:VCALENDAR