BEGIN:VCALENDAR
VERSION:2.0
PRODID:-//Ölbuddys Altmühltal - ECPv6.8.3//NONSGML v1.0//EN
CALSCALE:GREGORIAN
METHOD:PUBLISH
X-ORIGINAL-URL:https://oelbuddys-altmuehltal.de
X-WR-CALDESC:Veranstaltungen für Ölbuddys Altmühltal
REFRESH-INTERVAL;VALUE=DURATION:PT1H
X-Robots-Tag:noindex
X-PUBLISHED-TTL:PT1H
BEGIN:VTIMEZONE
TZID:Europe/Berlin
BEGIN:DAYLIGHT
TZOFFSETFROM:+0100
TZOFFSETTO:+0200
TZNAME:CEST
DTSTART:20230326T010000
END:DAYLIGHT
BEGIN:STANDARD
TZOFFSETFROM:+0200
TZOFFSETTO:+0100
TZNAME:CET
DTSTART:20231029T010000
END:STANDARD
END:VTIMEZONE
BEGIN:VEVENT
DTSTART;TZID=Europe/Berlin:20230426T170000
DTEND;TZID=Europe/Berlin:20230426T190000
DTSTAMP:20260423T131937
CREATED:20230310T235044Z
LAST-MODIFIED:20230423T170856Z
UID:279-1682528400-1682535600@oelbuddys-altmuehltal.de
SUMMARY:Öldate im April
DESCRIPTION:Du wolltest Ätherische Öle von DoTERRA schon immer einmal intensiv testen und kennenlernen? \nDann bist du hier genau richtig. \nWir laden dich herzlich ein\, die ätherischen Öle von doTERRA live kennen und lieben zu lernen. \n \nWas erwartet dich? \nEin kleines Willkommens-Goodie-Bag. \nDu erfährst warum ätherische Öle dein Leben bereichern\nund warum doTERRA hier die richtige Marke ist. \nWir erzählen dir wie vielseitig die ätherischen Öle von doTERRA angewendet werden können und was deine großen Vorteile sind\, die Öle über uns zu bestellen. \nMeld dich gleich an. \nAuf Anfrage kommen wir auch gerne zu dir nach Hause und bringen dir und deinen Freund*innen die Welt der ätherischen Öle näher. Kontaktiere uns hierfür einfach. \nDein Ölbuddys-Team
URL:https://oelbuddys-altmuehltal.de/veranstaltung/oeldate-im-april/
LOCATION:Öldate\, Am Weiher 1\, Haunsfeld\, 91804\, Deutschland
END:VEVENT
END:VCALENDAR